BEGIN:VCALENDAR
VERSION:2.0
PRODID:gsc.hkust.edu.hk
BEGIN:VEVENT
UID:69e7c144995a0
DTSTART:20251028T124500Z
SEQUENCE:0
TRANSP:OPAQUE
DTEND:20251028T140000Z
SUMMARY:Next-Generation Transportation: eVTOL Aircraft and the Rise of Hong
  Kong&#039\;s Low-altitude Economy
CLASS:PUBLIC
DESCRIPTION:Next-Generation Transportation: eVTOL Aircraft and the Rise of 
 Hong Kong&#039\;s Low-altitude Economy
DTSTAMP:20260421T182612Z
END:VEVENT
END:VCALENDAR