BEGIN:VCALENDAR
VERSION:2.0
PRODID:gsc.hkust.edu.hk
BEGIN:VEVENT
UID:69e5630a606ef
DTSTART:20240125T140000Z
SEQUENCE:0
TRANSP:OPAQUE
DTEND:20240125T160000Z
SUMMARY:The British Chamber of Commerce in Hong Kong Visit to HKUST Sustain
 able Smart Campus
CLASS:PUBLIC
DESCRIPTION:The British Chamber of Commerce in Hong Kong Visit to HKUST Sus
 tainable Smart Campus
DTSTAMP:20260419T231938Z
END:VEVENT
END:VCALENDAR